BEGIN:VCALENDAR
VERSION:2.0
PRODID:-//hacksw/handcal//NONSGML v1.0//EN
CALSCALE:GREGORIAN
BEGIN:VEVENT
DTEND:20250217T150000Z
UID:nova-uni-event-9600
DTSTAMP:20260425T121442Z
LOCATION:Online
DESCRIPTION:You are cordially invited to the 32nd European Academic Forum organised by the Jean Monnet Chair of the New University\, dedicated to Pluralism\, the EU\, and the European Perspective of the Western Balkans As the countries of the Western Balkans continue their complex journey toward the European Union\, the region stands at a crossroads shaped [&hellip\;]
URL;VALUE=URI:https://www.nova-uni.si/en/dogodki/pluralism-the-eu-and-the-european-perspective-of-the-western-balkans/
SUMMARY:Pluralism\, the EU\, and the European Perspective of the Western Balkans
DTSTART:20250217T140000Z
END:VEVENT
END:VCALENDAR