BEGIN:VCALENDAR
VERSION:2.0
PRODID:-//hacksw/handcal//NONSGML v1.0//EN
CALSCALE:GREGORIAN
BEGIN:VEVENT
DTEND:20260514T000000Z
UID:nova-uni-event-11808
DTSTAMP:20260423T014325Z
LOCATION:
DESCRIPTION:Članice Nove univerze vljudno vabijo na informativne dneve za podiplomske študijske programe\, ki bodo potekali med 13. in 14. majem 2026. Več informacij najdete na spletnih straneh članic Nove univerze: Fakulteta za slovenske in mednarodne študije: [INFORMATIVNI DNEVI] za podiplomske študijske programe – 13. 5. 2026\; Fakulteta za državne in evropske študije: [INFORMATIVNI DNEVI] za podiplomske študijske programe – [&hellip\;]
URL;VALUE=URI:https://www.nova-uni.si/dogodki/informativni-dnevi-za-podiplomske-studijske-programe-13-in-14-5-2026/
SUMMARY:[INFORMATIVNI DNEVI] za podiplomske študijske programe – 13. in 14. 5. 2026
DTSTART:20260513T000000Z
END:VEVENT
END:VCALENDAR