BEGIN:VCALENDAR
VERSION:2.0
PRODID:-//hacksw/handcal//NONSGML v1.0//EN
CALSCALE:GREGORIAN
BEGIN:VEVENT
DTEND:20260513T120000Z
UID:nova-uni-event-11777
DTSTAMP:20260423T021836Z
LOCATION:Policijska akademija
DESCRIPTION:Vabimo vas\, da se nam v sredo\, 13. maja 2026\, s pričetkom ob 9. uri\, pridružite na skupinskem vodenem ogledu Policijske akademije v Tacnu\, ki bo potekal v sklopu aktivnosti Kariernega centra Nove univerze. Program dogodka bo zajemal ogled prostorov Policijske akademije\, predstavitev izobraževalnega programa za poklic policista\, pregled sistema izobraževanja\, izpopolnjevanja in usposabljanja slovenske [&hellip\;]
URL;VALUE=URI:https://www.nova-uni.si/dogodki/vabilo-strokovna-ekskurzija-policijska-akademija/
SUMMARY:[VABILO] : Strokovna ekskurzija Policijska akademija
DTSTART:20260513T090000Z
END:VEVENT
END:VCALENDAR