BEGIN:VCALENDAR
VERSION:2.0
PRODID:-//hacksw/handcal//NONSGML v1.0//EN
CALSCALE:GREGORIAN
BEGIN:VEVENT
DTEND:20260310T173000Z
UID:nova-uni-event-11549
DTSTAMP:20260424T115557Z
LOCATION:New University
DESCRIPTION:Free Market Road Show 2026 is coming to Ljubljana\, one of the most recognizable series of discussions on economic reforms\, entrepreneurship\, and the future of the free market. The event is part of an international initiative that brings together renowned economists\, academics\, policymakers\, and other experts from various countries. This year’s Ljubljana edition will take [&hellip\;]
URL;VALUE=URI:https://www.nova-uni.si/en/dogodki/free-market-road-show-2026-new-university/
SUMMARY:Free Market Road Show 2026 &#8211\; New University
DTSTART:20260310T160000Z
END:VEVENT
END:VCALENDAR