BEGIN:VCALENDAR
VERSION:2.0
PRODID:-//hacksw/handcal//NONSGML v1.0//EN
CALSCALE:GREGORIAN
BEGIN:VEVENT
DTEND:20260508T200000Z
UID:nova-uni-event-11545
DTSTAMP:20260423T014325Z
LOCATION:Ljubljana
DESCRIPTION:Vabimo vas na mednarodno Spomladansko šolo Nove univerze 2026 z naslovom Podnebne spremembe\, človekove pravice in gospodarstvo\, ki jo organizira Fakulteta za državne in evropske študije Nove univerze\, skupaj z Evropsko pravno fakulteto Nove univerze ter Fakulteto za slovenske in mednarodne študije Nove univerze. Spomladanska šola bo raziskovala povezave med podnebnimi spremembami\, človekovimi pravicami in poslovanjem. Posamezniki se pogosto [&hellip\;]
URL;VALUE=URI:https://www.nova-uni.si/dogodki/spomladanska-sola-nove-univerze-2026/
SUMMARY:Spomladanska šola Nove univerze 2026
DTSTART:20260504T160000Z
END:VEVENT
END:VCALENDAR