BEGIN:VCALENDAR
VERSION:2.0
PRODID:-//hacksw/handcal//NONSGML v1.0//EN
CALSCALE:GREGORIAN
BEGIN:VEVENT
DTEND:20260509T140000Z
UID:nova-uni-event-11303
DTSTAMP:20260423T030629Z
LOCATION:Mestni trg 23
DESCRIPTION:Seminar Nevidna stanja\, resnične izkušnje odpira prostor za sodobno\, celostno razumevanje stanj\, ki so pogosto spregledana\, napačno razumljena ali razložena preozko – bodisi zgolj medicinsko bodisi zgolj psihološko. Izhaja iz spoznanja\, da telo in živčni sistem nista pasivna prejemnika dogajanja\, temveč aktivna nosilca pomena\, spomina in prilagoditve. Psihično in fizično hodita z roko v roki. [&hellip\;]
URL;VALUE=URI:https://www.nova-uni.si/dogodki/3-modul-ko-pogovor-ni-vec-samoumeven-komunikacija-v-zahtevnih-in-napetih-situacijah/
SUMMARY:[3. MODUL]: Ko pogovor ni več samoumeven
DTSTART:20260509T090000Z
END:VEVENT
END:VCALENDAR