BEGIN:VCALENDAR
VERSION:2.0
PRODID:-//hacksw/handcal//NONSGML v1.0//EN
CALSCALE:GREGORIAN
BEGIN:VEVENT
DTEND:20260411T140000Z
UID:nova-uni-event-11300
DTSTAMP:20260423T071543Z
LOCATION:Mestni trg 23
DESCRIPTION:Seminar Nevidna stanja\, resnične izkušnje odpira prostor za sodobno\, celostno razumevanje stanj\, ki so pogosto spregledana\, napačno razumljena ali razložena preozko – bodisi zgolj medicinsko bodisi zgolj psihološko. Izhaja iz spoznanja\, da telo in živčni sistem nista pasivna prejemnika dogajanja\, temveč aktivna nosilca pomena\, spomina in prilagoditve. Psihično in fizično hodita z roko v roki. [&hellip\;]
URL;VALUE=URI:https://www.nova-uni.si/dogodki/2-modul-ko-telo-spregovori-razumevanje-psihosomatike-danes/
SUMMARY:[2. MODUL]: Ko telo spregovori: razumevanje psihosomatike danes
DTSTART:20260411T090000Z
END:VEVENT
END:VCALENDAR