BEGIN:VCALENDAR
VERSION:2.0
PRODID:-//hacksw/handcal//NONSGML v1.0//EN
CALSCALE:GREGORIAN
BEGIN:VEVENT
DTEND:20250919T000000Z
UID:nova-uni-event-10553
DTSTAMP:20260424T225352Z
LOCATION:Nova univerza\, Mestni trg 23
DESCRIPTION:We are pleased to extend a warm invitation to your students to participate in the Autumn School 2025\, titled Housing Issues: Different Perspectives\, Challenges and Possible Solutions\, organized by New University\, Slovenia\, in cooperation with the Faculty of Law for Commerce and Judiciary in Novi Sad (Serbia) and EFFECTUS University of Applied Sciences (Croatia). The [&hellip\;]
URL;VALUE=URI:https://www.nova-uni.si/en/dogodki/invitation-autumn-school-2025-at-new-university/
SUMMARY:[INVITATION] Autumn School 2025 at New University
DTSTART:20250915T000000Z
END:VEVENT
END:VCALENDAR